BEGIN:VCALENDAR
VERSION:2.0
PRODID:icalendar-ruby
CALSCALE:GREGORIAN
METHOD:PUBLISH
BEGIN:VEVENT
DTSTAMP:20260425T142401Z
UID:548-1276279@eccucc.org
DTSTART:20260502T193000Z
DTEND:20260502T203000Z
CLASS:PUBLIC
CREATED:20260408T094844
DESCRIPTION:
LAST-MODIFIED:20260408T094844
LOCATION:
SUMMARY:Baptism - Mollison
URL;VALUE=URI:https://www.eccucc.org/events/baptism-mollison/2026-05-02
END:VEVENT
END:VCALENDAR
