BEGIN:VCALENDAR
VERSION:2.0
PRODID:icalendar-ruby
CALSCALE:GREGORIAN
METHOD:PUBLISH
BEGIN:VEVENT
DTSTAMP:20260423T202710Z
UID:551-1353650@eccucc.org
DTSTART:20260424T170000Z
DTEND:20260424T190000Z
CLASS:PUBLIC
CREATED:20260423T124757
DESCRIPTION:
LAST-MODIFIED:20260423T124757
LOCATION:
SUMMARY:Staff Meeting
URL;VALUE=URI:https://www.eccucc.org/events/staff-meeting--551/2026-04-24
END:VEVENT
END:VCALENDAR
